BEGIN:VCALENDAR
VERSION:2.0
PRODID:-//FONSET - ECPv6.14.2//NONSGML v1.0//EN
CALSCALE:GREGORIAN
METHOD:PUBLISH
X-ORIGINAL-URL:https://fonset.org.br
X-WR-CALDESC:Eventos para FONSET
REFRESH-INTERVAL;VALUE=DURATION:PT1H
X-Robots-Tag:noindex
X-PUBLISHED-TTL:PT1H
BEGIN:VTIMEZONE
TZID:America/Sao_Paulo
BEGIN:STANDARD
TZOFFSETFROM:-0300
TZOFFSETTO:-0300
TZNAME:-03
DTSTART:20260101T000000
END:STANDARD
END:VTIMEZONE
BEGIN:VEVENT
DTSTART;VALUE=DATE:20261126
DTEND;VALUE=DATE:20261128
DTSTAMP:20260422T194740
CREATED:20260407T194052Z
LAST-MODIFIED:20260407T194052Z
UID:1768-1795651200-1795823999@fonset.org.br
SUMMARY:151º Assembleia Geral Ordinária do FONSET
DESCRIPTION:
URL:https://fonset.org.br/event/151o-assembleia-geral-ordinaria-do-fonset/
LOCATION:Ceará\, Fortaleza\, Ceará\, Brazil
CATEGORIES:Eventos
END:VEVENT
END:VCALENDAR